BEGIN:VCALENDAR
VERSION:2.0
PRODID:-//Tukios.com/
BEGIN:VEVENT
UID:a12f7943-97ae-4323-8da5-67d94ad698ef@www.mcdougalcaldwell.com
DTSTAMP:20260421T234111Z
DTSTART:20260425T180000Z
DTEND:20260425T190000Z
SUMMARY:Celebration of Life
DESCRIPTION:
URL:https://www.mcdougalcaldwell.com/obituaries/chad-steven-williams
LOCATION: 4050 West 2nd Street  Thatcher AZ 85552
GEO:32.8512972;-109.7678177
END:VEVENT
END:VCALENDAR